Workbook

Sheet Guidance for agencies
A1: Chief Executive Expense Disclosures: A Guide for Agency Staff
A2: The following is a summary from "Chief Executive Expense Disclosures: A Guide for Agency Staff": http://www.ssc.govt.nz/assets/Legacy/resources/Chief-Executive-Expense-Disclosure-Guide.pdf Please read that in full first.
A4: In the following worksheets, cells shaded light green require input. All other cells are locked to prevent change.
A6: Purpose
A7: The purpose of regular public disclosure of Chief Executive's (CE) expenses is to provide transparency and accountability for discretionary expenditure by CEs of Public Service departments and statutory Crown entities.
A8: Publishing clear and detailed disclosures is integral to building and maintaining the public's trust and confidence in the State services.
A10: What is covered? | B10: Description (e.g. event tickets, etc)
A11: All expenses for items experienced, used or declined by CEs in performing their role are required to be disclosed, whether paid by credit card or invoiced.
A12: This includes expenses for more personal undertakings, such as professional development expenditure, in addition to outgoings for the likes of travel and entertainment.
A13: CE expenses are not generally regarded as personal or commercially sensitive. Refer to the Ombudsman Guide to Chief Executive Expenses for guidance.
A14: Business or corporate expenses for the organisation that are met from the CE's budget or paid by his /her credit card are excluded.
A15: Expense disclosures cover the full period of the report, and are completed by each CE, including Acting CEs.
A17: How does it work?
A18: CEs disclose the expenses, gifts & hospitality they have expended or been offered using this SSC Excel workbook.
A19: CEs formally approve completed Excel workbooks and an appropriate person reviews them.
A20: They are posted on agency websites and linked to www.data.govt.nz. See: https://www.data.govt.nz/toolkit/how-do-i-add-or-update-our-chief-executive-expenses/
A22: When and how often are disclosures made?
A23: Disclosures cover the year to 30 June and are expected to be published by 31 July.
A25: Disclosed Information - this workbook includes a tab for each of the following categories:
... A58: Provide information using this SSC Excel workbook: http://www.ssc.govt.nz/ce-expenses-disclosure

Sheet Summary and sign-off
A1: Chief Executive Expenses, Gifts and Benefits Disclosure - summary & sign-off*
A2: Organisation Name | B2: New Zealand Artificial Limb Service
A3: Chief Executive** | B3: Sean Gray
A4: Disclosure period start*** | B4: 43831
A5: Disclosure period end*** | B5: 44012
A6: Agency totals check | B6: =IF(AND(Travel!B7<>A30,Hospitality!B7<>A30,'All other expenses'!B7<>A30,'Gifts and benefits'!B7<>A30),A31,IF(AND(Travel!B7=A30,Hospitality!B7=A30,'All other expenses'!B7=A30,'Gifts and benefits'!B7=A30),A33,A32)) -> Data and totals checked on all sheets
A7: Chief Executive approval**** | B7: This disclosure has been approved by the Chief Executive
A8: Other sign-off**** | B8: Chief Financial Officer
A9: This summary page updates automatically from the 'Travel', 'Hospitality', 'All other expenses', and 'Gifts and benefits' tabs. Throughout this workbook, input cells are shaded light green.
A10: Summary of expenses | B10: Cost in NZ$ | C10: GST inc / exc | E10: Gifts and benefits | F10: Count
A11: Travel expenses | B11: =B15+B16+B17 -> 4232.6 | C11: =IF(Travel!B6="",A34,Travel!B6) -> Figures include GST (where applicable) | E11: Number offered | F11: ='Gifts and benefits'!C25 -> 0
A12: Hospitality | B12: =Hospitality!B40 -> 484.26 | C12: =IF(Hospitality!B6="",A34,Hospitality!B6) -> Figures include GST (where applicable) | E12: Number accepted | F12: ='Gifts and benefits'!C26 -> 0
A13: Other expenses | B13: ='All other expenses'!B25 -> 0 | C13: =IF('All other expenses'!B6="",A34,'All other expenses'!B6) -> Figures include GST (where applicable) | E13: Number declined | F13: ='Gifts and benefits'!C27 -> 0
A15: International Travel | B15: =Travel!B22 -> 0 | C15: =C11 -> Figures include GST (where applicable)
A16: Domestic Travel | B16: =Travel!B56 -> 4013.94 | C16: =C11 -> Figures include GST (where applicable)
A17: Local Travel | B17: =Travel!B78 -> 218.66 | C17: =C11 -> Figures include GST (where applicable)
A19: Notes
A20: * Headings on following tabs will pre populate with what you enter on this tab
A21: ** Create a new workbook for a new Chief Executive
A22: *** Update if a shorter or different period is covered
A23: **** This disclosure must be approved by the Chief Executive and another appropriate party, e.g. Board Chair, Chief Financial Officer or Audit and Risk Committee member
A25: Text required for validation and checks - don't change, move, delete or overwrite
A26: Insert additional rows as needed: right click on a row number (left of screen) and select Insert - this will insert a row above selected row.
A27: Figures include GST (where applicable)
A28: Figures exclude GST
A29: Data and totals on this worksheet have NOT YET BEEN CHECKED AND CONFIRMED
A30: Data and totals on this worksheet checked and confirmed
A31: Data and totals have not yet been checked and confirmed for any sheet
... A46: Declined
A47: -20000
A48: Check - there are no hidden rows with data
A49: Error - this total includes data from 'hidden' rows
A50: Check - each entry provides sufficient information
A51: Not all lines have an entry for "Cost in NZ$" and "Type of expense"
A52: Not all lines have an entry for "Description", "Was the gift accepted?" and "Estimated value in NZ$"
A53: Check that # of 'costs' = 'type of expenses' (also "accepted/declined" for gifts & benefits) | F53: TRUE
A54: These checks (F53 to F61) are imperfect - they count the entries in each column and checks these totals are the same | F54: FALSE
B55: =COUNT(Travel!B12:B21) -> 0 | D55: =COUNTIF(Travel!D12:D21,"*") -> 0 | F55: =MIN(B55,D55)=MAX(B55,D55) -> TRUE
A56: Travel checks | B56: =COUNT(Travel!B26:B55) -> 26 | D56: =COUNTIF(Travel!D26:D55,"*") -> 26 | F56: =MIN(B56,D56)=MAX(B56,D56) -> TRUE
B57: =COUNT(Travel!B60:B77) -> 14 | D57: =COUNTIF(Travel!D60:D77,"*") -> 14 | F57: =MIN(B57,D57)=MAX(B57,D57) -> TRUE
...

Sheet Travel
A1: Chief Executive Expense Disclosure
A2: Organisation Name | B2: ='Summary and sign-off'!B2:F2 -> New Zealand Artificial Limb Service
A3: Chief Executive | B3: ='Summary and sign-off'!B3:F3 -> Sean Gray
A4: Disclosure period start | B4: ='Summary and sign-off'!B4:F4 -> 43831
A5: Disclosure period end | B5: ='Summary and sign-off'!B5:F5 -> 44012
A6: GST on costs | B6: Figures include GST (where applicable)
A7: Agency totals check | B7: Data and totals on this worksheet checked and confirmed
A8: International, domestic and local travel expenses
A9: All expenses incurred by chief executive during international, domestic and local travel. Group expenses relating to each trip.
A10: International Travel (including travel within NZ at beginning and end of overseas trip)
A11: Date(s)* | B11: Cost in NZ$** | C11: Purpose of travel (e.g. attending XYZ conference for 3 days)*** | D11: Type of expense (e.g. hotel, airfares, taxis, meals & for how many people) | E11: Location(s)
A22: Subtotal - international travel | B22: =SUM(B12:B21) -> 0 | C22: =IF(SUBTOTAL(3,B12:B21)=SUBTOTAL(103,B12:B21),'Summary and sign-off'!$A$48,'Summary and sign-off'!$A$49) -> Check - there are no hidden rows with data | D22: =IF('Summary and sign-off'!F55='Summary and sign-off'!F54,'Summary and sign-off'!A51,'Summary and sign-off'!A50) -> Check - each entry provides sufficient information
A24: Domestic Travel (within NZ, including travel to and from local airport)
A25: Date(s)* | B25: Cost in NZ$ | C25: Purpose of travel (e.g. visiting district office for two days...)*** | D25: Type of expense (e.g. hotel, airfares, taxis, meals & for how many people) | E25: Location(s)
A27: 43857 | B27: 354 | C27: Meeting | D27: Air NZ Travel | E27: Wellington/Dunedin
A28: 43857 | B28: 118.8 | C28: Meeting | D28: Air NZ Travel | E28: Flexitime Plus
A29: 43881 | B29: 517.74 | C29: Meeting | D29: Air NZ Travel | E29: Wellington/Auckland
A30: 43883 | B30: 82.1 | C30: Meeting | D30: Avis | E30: Auckland
A31: 43895 | B31: 276 | C31: Meeting | D31: Air NZ Travel | E31: Wellington/Hamilton
A32: 43895 | B32: 79.2 | C32: Meeting | D32: Air NZ Travel | E32: Flexitime
A33: 43895 | B33: 49.28 | C33: Meeting | D33: Taxicharge | E33: Hamilton
A34: 43900 | B34: 325 | C34: Meeting | D34: Air NZ Travel | E34: Wellington/Hamilton
A35: 43900 | B35: 79.2 | C35: Meeting | D35: Air NZ Travel | E35: Hamilton/Wellington
A36: 43900 | B36: 40 | C36: Meeting | D36: Air NZ Travel | E36: Wellington/Hamilton
A37: 43910 | B37: 18.6 | C37: Meeting | D37: Parking | E37: Auckland
A38: 44005 | B38: 457 | C38: Meeting | D38: Air NZ Travel | E38: Wellington/Christchurch
... A52: 44028 | B52: 10 | C52: Meeting | D52: Air NZ Travel | E52: Flexitime
A56: Subtotal - domestic travel | B56: =SUM(B26:B55) -> 4013.94 | C56: =IF(SUBTOTAL(3,B26:B55)=SUBTOTAL(103,B26:B55),'Summary and sign-off'!$A$48,'Summary and sign-off'!$A$49) -> Check - there are no hidden rows with data | D56: =IF('Summary and sign-off'!F56='Summary and sign-off'!F54,'Summary and sign-off'!A51,'Summary and sign-off'!A50) -> Check - each entry provides sufficient information
A58: Local Travel (within City, excluding travel to airport)
A59: Date(s)* | B59: Cost in NZ$ | C59: Purpose of travel (e.g. meeting with Minister)*** | D59: Type of expense (e.g. taxi, parking, bus) | E59: Location(s)
A61: 43859 | B61: 45 | C61: Meeting | D61: Parking | E61: Wellington Intl Airp
A62: 43868 | B62: 7.25 | C62: Meeting | D62: Parking | E62: Wellington
A63: 43874 | B63: 9.5 | C63: Meeting | D63: Parking | E63: Wellington
A64: 43879 | B64: 5 | C64: Meeting | D64: Parking | E64: Wellington
A65: 43879 | B65: 5 | C65: Meeting | D65: Parking | E65: Wellington
A66: 43881 | B66: 24.5 | C66: Meeting | D66: Parking | E66: Wellington
A67: 43882 | B67: 45 | C67: Meeting | D67: Parking | E67: Wellington
A68: 43888 | B68: 2.75 | C68: Meeting | D68: Parking | E68: Wellington
A69: 43895 | B69: 9.5 | C69: Meeting | D69: Parking | E69: Wellington
A70: 43901 | B70: 14.46 | C70: Meeting | D70: Uber | E70: Wellington
...

Sheet Hospitality
A1: Chief Executive Expense Disclosure
A2: Organisation Name | B2: ='Summary and sign-off'!B2:F2 -> New Zealand Artificial Limb Service
A3: Chief Executive | B3: ='Summary and sign-off'!B3:F3 -> Sean Gray
A4: Disclosure period start | B4: ='Summary and sign-off'!B4:F4 -> 43831
A5: Disclosure period end | B5: ='Summary and sign-off'!B5:F5 -> 44012
A6: GST on costs | B6: Figures include GST (where applicable)
A7: Agency totals check | B7: Data and totals on this worksheet checked and confirmed
A8: Hospitality Offered to Third Parties*
A9: All hospitality expenses provided by the chief executive in the context of his/her job to anyone external to the Public Service or statutory Crown entities.
A10: Date(s)** | B10: Cost in NZ$ | C10: Purpose of hospitality (e.g. hosting delegation from China, building relationships, team building) | D10: Type of expense (what and for how many e.g. dinner for 5) | E10: Location(s)
A12: 43857 | B12: 48 | C12: Meeting | D12: Meal | E12: Dunedin
A13: 43868 | B13: 13 | C13: Meeting | D13: Meal | E13: Wellington
A14: 43879 | B14: 13.5 | C14: Meeting | D14: Meal | E14: Wellington
A15: 43881 | B15: 10 | C15: Meeting | D15: Meal | E15: Wellington
A16: 43882 | B16: 36.7 | C16: Meeting | D16: Meal | E16: Wellington
A17: 43882 | B17: 14.5 | C17: Meeting | D17: Meal | E17: Auckland
A18: 43885 | B18: 22.6 | C18: Meeting | D18: Meal | E18: Wellington
A19: 43888 | B19: 70.89 | C19: Meeting | D19: Meal | E19: Wellington
A20: 43889 | B20: 9.2 | C20: Meeting | D20: Meal | E20: Wellington
A21: 43892 | B21: 9 | C21: Meeting | D21: Meal | E21: Wellington
A22: 43893 | B22: 14.37 | C22: Meeting | D22: Meal | E22: Wellington
A23: 43896 | B23: 39.9 | C23: Meeting | D23: Meal | E23: Hamilton
... A36: 44008 | B36: 4.7 | C36: Meeting | D36: Meal | E36: Wellington
A40: Total hospitality expenses | B40: =SUM(B11:B39) -> 484.26 | C40: =IF(SUBTOTAL(3,B11:B39)=SUBTOTAL(103,B11:B39),'Summary and sign-off'!$A$48,'Summary and sign-off'!$A$49) -> Check - there are no hidden rows with data | D40: =IF('Summary and sign-off'!F58='Summary and sign-off'!F54,'Summary and sign-off'!A51,'Summary and sign-off'!A50) -> Check - each entry provides sufficient information
A42: Notes
A43: * Third parties include people and organisations external to the public service or statutory Crown entities.
A44: ** Any non-standard date format or date outside 1 July - 30 June will raise an alert. Check entry and select 'Yes' to accept/continue.
A45: Insert additional rows as needed: right click on a row number (left of screen) and select Insert - this will insert a row above selected row.
A46: Total cost will appear automatically once you put information in rows above.
A47: Mark clearly if there is no information to disclose - provide a note to this effect in the 'Date' column (column A).

Sheet All other expenses
A1: Chief Executive Expense Disclosure
A2: Organisation Name | B2: ='Summary and sign-off'!B2:F2 -> New Zealand Artificial Limb Service
A3: Chief Executive | B3: ='Summary and sign-off'!B3:F3 -> Sean Gray
A4: Disclosure period start | B4: ='Summary and sign-off'!B4:F4 -> 43831
A5: Disclosure period end | B5: ='Summary and sign-off'!B5:F5 -> 44012
A6: GST on costs | B6: Figures include GST (where applicable)
A7: Agency totals check | B7: Data and totals on this worksheet checked and confirmed
A8: All Other Expenses
A9: All other expenditure incurred by the chief executive that is not travel, hospitality or gifts. Include e.g. phone and data costs, subscriptions, membership fees, conference fees, professional development costs, books and anything else.
A10: Date(s)* | B10: Cost in NZ$ | C10: Purpose of expense (e.g. subscription part of employment agreement, development as agreed with SSC) | D10: Type of expense (e.g. phone and data costs, membership fees) | E10: Location(s)
A25: Total other expenses | B25: =SUM(B11:B24) -> 0 | C25: =IF(SUBTOTAL(3,B11:B24)=SUBTOTAL(103,B11:B24),'Summary and sign-off'!$A$48,'Summary and sign-off'!$A$49) -> Check - there are no hidden rows with data | D25: =IF('Summary and sign-off'!F59='Summary and sign-off'!F54,'Summary and sign-off'!A51,'Summary and sign-off'!A50) -> Check - each entry provides sufficient information
A27: Notes
A28: * Any non-standard date format or date outside 1 July - 30 June will raise an alert. Check entry and select 'Yes' to accept/continue.
A29: Insert additional rows as needed: right click on a row number (left of screen) and select Insert - this will insert a row above selected row.
A30: Total cost will appear automatically once you put information in rows above.
A31: Mark clearly if there is no information to disclose - provide a note to this effect in the 'Date' column (column A).

Sheet Gifts and benefits
A1: Chief Executive Gifts and Benefits Disclosure
A2: Organisation Name | B2: ='Summary and sign-off'!B2:F2 -> New Zealand Artificial Limb Service
A3: Chief Executive | B3: ='Summary and sign-off'!B3:F3 -> Sean Gray
A4: Disclosure period start | B4: ='Summary and sign-off'!B4:F4 -> 43831
A5: Disclosure period end | B5: ='Summary and sign-off'!B5:F5 -> 44012
A6: GST on values | B6: Figures include GST (where applicable)
A7: Agency totals check | B7: Data and totals on this worksheet checked and confirmed
A8: Gifts and Benefits over $50 annual value
A9: Include all gifts, invitations to events and other hospitality, of $50 or more in total value per year, offered to the chief executive by people external to the organisation. Include all gifts, invitations or other hospitality whether accepted or declined.
A10: Date(s)* | B10: Description (e.g. event tickets, etc.) | C10: Was the gift accepted? (drop-down list in cell) | D10: Offered by (who made the offer?) | E10: Estimated value in NZ$ (drop-down list in cell but provide specific value if possible) | F10: Other comments (e.g. if given to others, whom?)
A25: Total count of gift/benefit entries: | B25: Offered | C25: =C26+C27 -> 0 | D25: =IF(SUBTOTAL(3,C11:C24)=SUBTOTAL(103,C11:C24),'Summary and sign-off'!$A$48,'Summary and sign-off'!$A$49) -> Check - there are no hidden rows with data | E25: =IF('Summary and sign-off'!F60='Summary and sign-off'!F54,'Summary and sign-off'!A52,'Summary and sign-off'!A50) -> Check - each entry provides sufficient information
B26: Accepted | C26: =COUNTIF(C11:C24,'Summary and sign-off'!A45) -> 0
B27: Declined | C27: =COUNTIF(C11:C24,'Summary and sign-off'!A46) -> 0
A29: Notes
A30: * Any non-standard date format or date outside 1 July - 30 June will raise an alert. Check entry and select 'Yes' to accept/continue.
A31: Insert additional rows as needed: right click on a row number (left of screen) and select Insert - this will insert a row above selected row.
A32: A one-off offer of something worth $25 is not included, but if the offer is made more than once a year, it should be disclosed.
A33: Include items such as invitations to functions and events, event tickets, gifts from overseas counterparts and commercial organisations (including that accepted by immediate family members).
A34: Include gifts and benefits that are declined.
A35: Number of gifts/benefits will update automatically once you put information in rows above.
A36: Mark clearly if there is no information to disclose - provide a note to this effect in the 'Date' column (column A).
